BEGIN:VCALENDAR
VERSION:2.0
PRODID:-//WSPC - ECPv5.16.3//NONSGML v1.0//EN
CALSCALE:GREGORIAN
METHOD:PUBLISH
X-ORIGINAL-URL:https://www.wspc.gr
X-WR-CALDESC:Events for WSPC
REFRESH-INTERVAL;VALUE=DURATION:PT1H
X-Robots-Tag:noindex
X-PUBLISHED-TTL:PT1H
BEGIN:VTIMEZONE
TZID:Europe/Athens
BEGIN:DAYLIGHT
TZOFFSETFROM:+0200
TZOFFSETTO:+0300
TZNAME:EEST
DTSTART:20230326T010000
END:DAYLIGHT
BEGIN:STANDARD
TZOFFSETFROM:+0300
TZOFFSETTO:+0200
TZNAME:EET
DTSTART:20231029T010000
END:STANDARD
END:VTIMEZONE
BEGIN:VEVENT
DTSTART;VALUE=DATE:20230609
DTEND;VALUE=DATE:20230612
DTSTAMP:20260425T020156
CREATED:20230605T094908Z
LAST-MODIFIED:20230605T104242Z
UID:19595-1686268800-1686527999@www.wspc.gr
SUMMARY:Malvasia Festival - Monemvasia
DESCRIPTION:Η Μονεμβασιά\, η Mal(e)vasia των Βενετών\, ή Mal(e)voisie των Φράγκων\, το «πέτρινο καράβι» του Γιάννη Ρίτσου\, παρουσιάζει και γιορτάζει μια ιδιαίτερη πτυχή της ιστορίας και του πολιτισμού της. \nΑπό 9 έως 11 Ιουνίου 2023 ο περιώνυμος Μαλβαζίας οίνος\, το πιο φημισμένο κρασί της ιστορίας\, αναδεικνύει το άρωμα και τον πολιτισμό του\, την γεύση και την ιστορία του\, στο πρώτο διεθνές Malvasia Festival της Μονεμβασιάς\, με έμπνευση από τον στίχο του Μονεμβασιώτη ποιητή Γιάννη Ρίτσου «Καί τί ἦταν; Ἀντεστραμμένος χρόνος;» \nΣτο πλαίσιο του φεστιβάλ\, θα πραγματοποιηθεί Masterclass με εισηγητή τον Ανδρέα Ματθίδη DipWSET\, Q-Grader\, στις 10 Ιουνίου στο Κτήμα Petra (15:00) \nΔείτε το πλήρες πρόγραμμα του Malvasia Festival εδώ.
URL:https://www.wspc.gr/event/malvasia-festival-monemvasia/
LOCATION:Crete
CATEGORIES:Εκθέσεις
END:VEVENT
BEGIN:VEVENT
DTSTART;TZID=Europe/Athens:20230611T130000
DTEND;TZID=Europe/Athens:20230611T200000
DTSTAMP:20260425T020156
CREATED:20230606T081603Z
LAST-MODIFIED:20230606T081603Z
UID:19607-1686488400-1686513600@www.wspc.gr
SUMMARY:Drink Pink\, Rosé Wine Extravaganza
DESCRIPTION:«Drink Pink\, Rosé Wine Extravaganza»\nΗ μεγάλη γιορτή των ροζέ κρασιών πραγματοποιείται την Κυριακή 11 Ιουνίου στο Κέντρο Πολιτισμού Ίδρυμα Σταύρος Νιάρχος. \nΔοκιμάστε περισσότερα από 150 κρασιά από κάθε γωνιά της Ελλάδας αλλά και μερικά από τα πιο εμβληματικά ροζέ κρασιά της διεθνούς αγοράς. \n\nΑίθουσα Φάρος\, Κέντρο Πολιτισμού Ίδρυμα Σταύρος Νιάρχος\nΚυριακή 11 Ιουνίου\, 13:00 – 20:00\nΕισιτήριο 12 ευρώ (φοιτητικό 10 ευρώ)\, περιλαμβάνεται αναμνηστικό ποτήρι γευσιγνωσίας\n\nΜάθετε περισσότερα: https://www.drinkpink.gr/
URL:https://www.wspc.gr/event/drink-pink-rose-wine-extravaganza/
LOCATION:Φάρος\, Λεωφόρος Συγγρού 364\, Καλλιθέα\, 17674
CATEGORIES:Εκθέσεις
ORGANIZER;CN="Vinetum":MAILTO:info@vinetum.gr
END:VEVENT
BEGIN:VEVENT
DTSTART;VALUE=DATE:20230623
DTEND;VALUE=DATE:20230624
DTSTAMP:20260425T020156
CREATED:20230605T073226Z
LAST-MODIFIED:20230605T073226Z
UID:19584-1687478400-1687564799@www.wspc.gr
SUMMARY:Παγκόσμια Ημέρα Ροζέ Κρασιού
DESCRIPTION:Παγκόσμια Ημέρα Ροζέ Κρασιού
URL:https://www.wspc.gr/event/pagkosmia-imera-roze-krasioy-2/
LOCATION:Crete
CATEGORIES:Παγκόσμια Ημέρα
END:VEVENT
END:VCALENDAR