BEGIN:VCALENDAR
VERSION:2.0
PRODID:-//WSPC - ECPv5.16.3//NONSGML v1.0//EN
CALSCALE:GREGORIAN
METHOD:PUBLISH
X-ORIGINAL-URL:https://www.wspc.gr
X-WR-CALDESC:Events for WSPC
REFRESH-INTERVAL;VALUE=DURATION:PT1H
X-Robots-Tag:noindex
X-PUBLISHED-TTL:PT1H
BEGIN:VTIMEZONE
TZID:Europe/Athens
BEGIN:DAYLIGHT
TZOFFSETFROM:+0200
TZOFFSETTO:+0300
TZNAME:EEST
DTSTART:20220327T010000
END:DAYLIGHT
BEGIN:STANDARD
TZOFFSETFROM:+0300
TZOFFSETTO:+0200
TZNAME:EET
DTSTART:20221030T010000
END:STANDARD
END:VTIMEZONE
BEGIN:VEVENT
DTSTART;VALUE=DATE:20221031
DTEND;VALUE=DATE:20221102
DTSTAMP:20260424T003534
CREATED:20221003T144519Z
LAST-MODIFIED:20221027T144621Z
UID:13598-1667174400-1667347199@www.wspc.gr
SUMMARY:Εκπαιδευτικό Πρόγραμμα Οινοτουρισμού
DESCRIPTION:Τη Δευτέρα 31/10 και την Τρίτη 1/11/22 θα διεξαχθεί διήμερο Εκπαιδευτικό Πρόγραμμα για τον Οινοτουρισμό από την Dr. Natalia Velikova\, Καθηγήτρια στο Texas Tech University με την υποστήριξη του Ιδρύματος Fulbright (Intercountry Lecturing Program). \nΑυτό το πρωτοποριακό – για τα ελληνικά δεδομένα – εκπαιδευτικό πρόγραμμα απευθύνεται πρωτίστως σε επαγγελματίες των κλάδων\, αλλά και σε όσους επιθυμούν να διευρύνουν το πεδίο των γνώσεων τους – συμβάλλοντας όλοι μαζί στην περαιτέρω εξέλιξη του Οινοτουρισμού στην Ελλάδα. \n\n– Το πρόγραμμα θα διεξαχθεί στην Αγγλική γλώσσα\,\n– Το πρόγραμμα θα διεξαχθεί στις εγκαταστάσεις μας.\n– Οι συμμετέχοντες θα λάβουν Certificate of Attendance.\n– Και τις δυο μέρες του προγράμματος θα παρέχεται στους συμμετέχοντες γεύμα. \n\nΗ Dr. Natalia Velikova είναι Υπότροφος Fulbright στη Βουλγαρία για το 2022-23 και η επίσκεψή της στην Ελλάδα και στο WSPC γίνεται μέσω του Intercountry Lecturing Program με την υποστήριξη του Ιδρύματος Fulbright (Fulbright Greece). Αντικείμενο της διδασκαλίας της αποτελεί ο Οινοτουρισμός καθώς και μια πληθώρα ενοτήτων γύρω από αυτόν\, όπως Advanced Wine Marketing and Tourism\, The Fundamentals of Wine Business\, Beverage Control Management\, International Retailing κ.α. \n\n*Για οποιαδήποτε ακύρωση προκύψει μετά τις 15 Οκτωβρίου\, ΔΕΝ επιστρέφεται το κόστος συμμετοχής. \nΓια να δείτε το πλήρες βιογραφικό της Dr. Velikova\, πατήστε εδώ. \n………………………………………………………………………………………………………………………………………………………………………………………………………………………………………………………………………………… \nOn Monday\, October 31st and Tuesday\, November 1st 2022 a two-day Wine Tourism Educational Programme will be conducted by Dr. Natalia Velikova\, Professor at the Texas Tech University with the support of the Fulbright Foundation in Greece (Intercountry Lecturing Program). \nThis pioneering – for Greek standards – educational program is primarily aimed towards professionals in the field\, as well as to those who wish to expand their field of knowledge – contributing together to the further development of Wine Tourism in Greece. \n– The programme will be conducted in English.\n– The programme will be held at our facilities.\n– Participants will receive a Certificate of Attendance.\n– Lunch will be provided to participants on both days of the programme. \nDr. Natalia Velikova is a Fulbright Scholar for 2022-23 in Bulgaria. Her visit to Greece and WSPC is realized through the Intercountry Lecturing Program with the support of the Fulbright Foundation (Fulbright Greece). She teaches Wine Tourism as well as a multitude of subjects relating to it\, such as Advanced Wine Marketing and Tourism\, The Fundamentals of Wine Business\, Beverage Control Management\, International Retailing etc. \nYou can see her full bio here. \n\n*NO refunds will be provided for any cancellations after October 15.
URL:https://www.wspc.gr/event/ekpaideytiko-programma-oinotoyrismoy/
LOCATION:WSPC\, Γλαύκου 11\, Παλαιό Φάληρο\, Αττική\, 17564\, Greece
CATEGORIES:Εκπαιδευτικό Πρόγραμμα
END:VEVENT
BEGIN:VEVENT
DTSTART;VALUE=DATE:20221101
DTEND;VALUE=DATE:20221102
DTSTAMP:20260424T003534
CREATED:20211112T094005Z
LAST-MODIFIED:20211112T094005Z
UID:7809-1667260800-1667347199@www.wspc.gr
SUMMARY:Παγκόσμια Ημέρα Ξινόμαυρου
DESCRIPTION:Παγκόσμια Ημέρα Ξινόμαυρου
URL:https://www.wspc.gr/event/pagkosmia-imera-xinomayroy/
LOCATION:Crete
CATEGORIES:Παγκόσμια Ημέρα
END:VEVENT
BEGIN:VEVENT
DTSTART;TZID=Europe/Athens:20221101T180000
DTEND;TZID=Europe/Athens:20221101T200000
DTSTAMP:20260424T003534
CREATED:20221018T113047Z
LAST-MODIFIED:20221018T123526Z
UID:13828-1667325600-1667332800@www.wspc.gr
SUMMARY:Masterclass: Το Ξινόμαυρο στα καλύτερά του!
DESCRIPTION:Οι «Οινοποιοί Boρείου Ελλάδος» επιλέγουν το καλύτερο κρασί της γκάμας τους βασισμένο στο Ξινόμαυρο\, για να αποδείξουν\, πώς αυτή η ποικιλία κατακτά όλες τις αγορές του κόσμου. \nΜε την καθοδήγηση\, τις εμπεριστατωμένες γνώσεις και κυρίως την ικανότητά του να τις μεταδίδει\, ο Κωνσταντίνος Λαζαράκης MW θα μας ταξιδέψει νοερά στα αμπελοτόπια της Βόρειας Ελλάδας\, όπου κυρίως καλλιεργείται το Ξινόμαυρο και παράγει κρασιά της ποικιλίας\, που επάξια αναδεικνύουν το βάθος των ξεχωριστών και μοναδικών χαρακτηριστικών της. \nΠερισσότερες πληροφορίες και τη φόρμα συμμετοχής θα βρείτε στη διεύθυνση: rb.gy/3bdfd1 \nΔιοργάνωση εκδηλώσεων: Ένωση “Οινοποιοί Βορείου Ελλάδος”\nΕπικοινωνία:   τ. 2310281617 – e. pr@winemakersofnorthgreece.gr \nΓια πληροφορίες σχετικά με την ένωση «Οινοποιοί Βορείου Ελλάδος» (ΕΝΟΑΒΕ)\, τα Οινοποιεία-Μέλη και τις δράσεις της παρακαλούμε επισκεφθείτε την ιστοσελίδα www.winemakersofnorthgreece.gr
URL:https://www.wspc.gr/event/masterclass-to-xinomayro-sta-kalytera-toy/
LOCATION:Electra Palace Athens\, Ναυάρχου Νικοδήμου 18-20\, Αθήνα\, 10557\, Ελλάδα
CATEGORIES:Παγκόσμια Ημέρα
END:VEVENT
BEGIN:VEVENT
DTSTART;TZID=Europe/Athens:20221101T180000
DTEND;TZID=Europe/Athens:20221101T220000
DTSTAMP:20260424T003534
CREATED:20221018T114453Z
LAST-MODIFIED:20221018T123729Z
UID:13835-1667325600-1667340000@www.wspc.gr
SUMMARY:Έκθεση οινογευσίας "Τα ΒορΟινά του Ξινόμαυρου"
DESCRIPTION:Εκδήλωση γευστικής δοκιμής της ένωσης “Οινοποιοί Βορείου Ελλάδος” με κρασιά της ποικιλίας Ξινόμαυρο\, στη 1 Νοεμβρίου\, στην Παγκόσμια Ημέρα Ξινόμαυρου! \nΤα αγαπημένα “ΒορΟινά” για πρώτη φορά ντύνονται με την πολύχρωμη φορεσιά του Ξινόμαυρου παρουσιάζοντας την πλούσια χρωματική και γευστική του παλέτα\, με κρασιά ένδειξης ΠΟΠ ή ΠΓΕ\, μονοποικιλιακά ή σε χαρμάνι\, λευκά\, orange\, ροζέ\, ερυθρά\, νεαρά και παλαιωμένα\, ξηρά ή αφρώδη και άλλα\, από τα ονομαστά αμπελοτόπια της Βόρειας Ελλάδας. \nΣτην έκθεση το κοινό θα έχει τη δυνατότητα να δοκιμάσει από τα τραπέζια όπου θα είναι τοποθετημένες φιάλες με Ξινόμαυρο όλες τις εκφράσεις του\, από τις 4 ζώνες ΠΟΠ της ποικιλίας μέχρι ετικέτες περιορισμένης κυκλοφορίας. \nΠερισσότερες πληροφορίες και τη φόρμα συμμετοχής θα βρείτε στη διεύθυνση: rb.gy/ymlwxu \nΔιοργάνωση εκδηλώσεων:   Ένωση “Οινοποιοί Βορείου Ελλάδος”.\nΕπικοινωνία:   τ. 2310281617 – e. pr@winemakersofnorthgreece.gr \nΓια πληροφορίες σχετικά με την ένωση «Οινοποιοί Βορείου Ελλάδος» (ΕΝΟΑΒΕ)\, τα Οινοποιεία-Μέλη και τις δράσεις της παρακαλούμε επισκεφθείτε την ιστοσελίδα www.winemakersofnorthgreece.gr
URL:https://www.wspc.gr/event/ekthesi-oinogeysias-quot-ta-voroina-toy-xinomayroy-quot/
LOCATION:Electra Palace Athens\, Ναυάρχου Νικοδήμου 18-20\, Αθήνα\, 10557\, Ελλάδα
CATEGORIES:Παγκόσμια Ημέρα
END:VEVENT
BEGIN:VEVENT
DTSTART;VALUE=DATE:20221107
DTEND;VALUE=DATE:20221108
DTSTAMP:20260424T003534
CREATED:20211112T094101Z
LAST-MODIFIED:20211112T094101Z
UID:7811-1667779200-1667865599@www.wspc.gr
SUMMARY:Παγκόσμια Ημέρα Merlot
DESCRIPTION:Παγκόσμια Ημέρα Merlot
URL:https://www.wspc.gr/event/pagkosmia-imera-merlot/
LOCATION:Crete
CATEGORIES:Παγκόσμια Ημέρα
END:VEVENT
BEGIN:VEVENT
DTSTART;VALUE=DATE:20221112
DTEND;VALUE=DATE:20221113
DTSTAMP:20260424T003534
CREATED:20211112T094247Z
LAST-MODIFIED:20211112T094247Z
UID:7813-1668211200-1668297599@www.wspc.gr
SUMMARY:Παγκόσμια Ημέρα Tempranillo
DESCRIPTION:Παγκόσμια Ημέρα Tempranillo
URL:https://www.wspc.gr/event/pagkosmia-imera-tempranillo/
LOCATION:Crete
CATEGORIES:Παγκόσμια Ημέρα
END:VEVENT
BEGIN:VEVENT
DTSTART;VALUE=DATE:20221114
DTEND;VALUE=DATE:20221115
DTSTAMP:20260424T003534
CREATED:20211112T094357Z
LAST-MODIFIED:20211112T094357Z
UID:7815-1668384000-1668470399@www.wspc.gr
SUMMARY:Παγκόσμια Ημέρα Οινοτουρισμού
DESCRIPTION:Παγκόσμια Ημέρα Οινοτουρισμού
URL:https://www.wspc.gr/event/pagkosmia-imera-oinotoyrismoy/
LOCATION:Crete
CATEGORIES:Παγκόσμια Ημέρα
END:VEVENT
BEGIN:VEVENT
DTSTART;VALUE=DATE:20221119
DTEND;VALUE=DATE:20221120
DTSTAMP:20260424T003534
CREATED:20211112T094504Z
LAST-MODIFIED:20211112T094504Z
UID:7817-1668816000-1668902399@www.wspc.gr
SUMMARY:Παγκόσμια Ημέρα Zinfandel
DESCRIPTION:Παγκόσμια Ημέρα Zinfandel
URL:https://www.wspc.gr/event/pagkosmia-imera-zinfandel/
LOCATION:Crete
CATEGORIES:Παγκόσμια Ημέρα
END:VEVENT
BEGIN:VEVENT
DTSTART;TZID=Europe/Athens:20221129T150000
DTEND;TZID=Europe/Athens:20221129T170000
DTSTAMP:20260424T003534
CREATED:20221102T140145Z
LAST-MODIFIED:20221116T145529Z
UID:13932-1669734000-1669741200@www.wspc.gr
SUMMARY:SOLD OUT - Masterclass: Σαντορίνη\, οριζοντίως και καθέτως
DESCRIPTION:Με τον Κωνσταντίνο Λαζαράκη MW \nΣαντορίνη! Terroir? Καιρός? Άνθρωποι?\nΤέσσερις κορυφαίοι εκφραστές της Σαντορίνης παρουσιάζουν τα κρασιά τους οριζοντίως και καθέτως. Δήλωσε συμμετοχή στο Masterclass που διοργανώνει το WSPC εκ μέρους του Volcanic Agriculture of Europe. \nΤο Masterclass απευθύνεται σε όσους εργάζονται στον τομέα της HO.RE.CA. Οι θέσεις είναι περιορισμένες και θα τηρηθεί σειρά προτεραιότητας.\nΕγγραφείτε έως τις 22 Νοεμβρίου\, στέλνοντας email στο education@wspc.gr με θέμα “Masterclass Σαντορίνη” και αναγράφοντας υποχρεωτικά τα εξής: \nΟνοματεπώνυμο\nΤηλέφωνο\nΕπωνυμία εταιρείας HO.RE.CA.\nΗ θέση σας στην εταιρεία \nΟι θέσεις για το Masterclass έχουν συμπληρωθεί.
URL:https://www.wspc.gr/event/masterclass-santorini-orizontios-kai-kathetos/
LOCATION:WSPC\, Γλαύκου 11\, Παλαιό Φάληρο\, Αττική\, 17564\, Greece
CATEGORIES:Δια Ζώσης Master Class
END:VEVENT
END:VCALENDAR