BEGIN:VCALENDAR
VERSION:2.0
PRODID:-//WSPC - ECPv5.16.3//NONSGML v1.0//EN
CALSCALE:GREGORIAN
METHOD:PUBLISH
X-WR-CALNAME:WSPC
X-ORIGINAL-URL:https://www.wspc.gr
X-WR-CALDESC:Events for WSPC
REFRESH-INTERVAL;VALUE=DURATION:PT1H
X-Robots-Tag:noindex
X-PUBLISHED-TTL:PT1H
BEGIN:VTIMEZONE
TZID:Europe/Athens
BEGIN:DAYLIGHT
TZOFFSETFROM:+0200
TZOFFSETTO:+0300
TZNAME:EEST
DTSTART:20220327T010000
END:DAYLIGHT
BEGIN:STANDARD
TZOFFSETFROM:+0300
TZOFFSETTO:+0200
TZNAME:EET
DTSTART:20221030T010000
END:STANDARD
END:VTIMEZONE
BEGIN:VEVENT
DTSTART;VALUE=DATE:20221001
DTEND;VALUE=DATE:20221002
DTSTAMP:20260423T211149
CREATED:20211112T091606Z
LAST-MODIFIED:20211112T092048Z
UID:7782-1664582400-1664668799@www.wspc.gr
SUMMARY:Παγκόσμια Ημέρα Καφέ
DESCRIPTION:Παγκόσμια Ημέρα Καφέ
URL:https://www.wspc.gr/event/pagkosmia-imera-kafe/
LOCATION:Crete
CATEGORIES:Παγκόσμια Ημέρα
END:VEVENT
BEGIN:VEVENT
DTSTART;TZID=Europe/Athens:20221013T150000
DTEND;TZID=Europe/Athens:20221013T170000
DTSTAMP:20260423T211149
CREATED:20220922T131610Z
LAST-MODIFIED:20220922T131610Z
UID:13452-1665673200-1665680400@www.wspc.gr
SUMMARY:WSET Diploma Open Day (Online)
DESCRIPTION:Interested in enrolling onto WSET DIPLOMA IN WINES\, the flagship WSET qualification and one of the top choices of the global wine professional? \nJoin our online DIPLOMA OPEN DAY session that will take place on Thursday 13 October 2022 at 15:00 EEST (Eastern European Summer Time zone).\nKonstantinos Lazarakis MW\, head of the course at our school and renowned educator\, will offer an in-depth presentation of the programme\, followed by Q&A session aimed at solving any queries you may have. \nMeeting the highest standards\, our school is the only WSET APP in SE Europe that provides DIPLOMA course\, therefore attracts candidates from around the globe. \nLearn more about our classes starting on 19 April 2023\, dive into a unique experience of multicultural fellowship\, get inspired! For more info click here. \nReserve your Place at the Online English Presentation until 10/10 here. 
URL:https://www.wspc.gr/event/wset-diploma-open-day-online/
LOCATION:Online\, Online
CATEGORIES:Diploma Open Day
ATTACH;FMTTYPE=image/png:https://www.wspc.gr/wp-content/uploads/2022/09/wspc-open-2022-800X400.png
END:VEVENT
BEGIN:VEVENT
DTSTART;TZID=Europe/Athens:20221013T180000
DTEND;TZID=Europe/Athens:20221013T200000
DTSTAMP:20260423T211149
CREATED:20220922T131515Z
LAST-MODIFIED:20220922T132539Z
UID:13450-1665684000-1665691200@www.wspc.gr
SUMMARY:WSET Diploma Open Day (Δια Ζώσης)
DESCRIPTION:Ο Κωνσταντίνος Λαζαράκης MW σας περιμένει στο καθιερωμένο WSET DIPLOMA OPEN DAY του σχολείου μας\, στην έδρα του WSPC (Γλαύκου 11\, Π. Φάληρο)\, την Πέμπτη 13 Οκτωβρίου 2022 στις 18:00. \nΣε μια αναλυτική παρουσίαση στα ελληνικά\, θα παρουσιαστούν το πλαίσιο και οι απαιτήσεις του προγράμματος\, ενώ θα ακολουθήσει Q&A session για να λύσετε κάθε σας απορία. \nΚλείστε θέση\, πάρτε τις πληροφορίες που χρειάζεστε και προετοιμαστείτε για το επόμενο τμήμα WSET DIPLOMA που θα ξεκινήσει στο WSPC τον Απρίλιο του 2023. Για πληροφορίες πατήστε εδώ. \nΜέσα από το WSPC\, το μοναδικό παράρτημα του WSET που προσφέρει το DIPLOMA στη ΝΑ Ευρώπη καθώς πληροί τις υψηλές προδιαγραφές ποιότητας που απαιτούνται\, η Ελλάδα γίνεται προορισμός διεθνώς αναγνωρισμένης οινικής εκπαίδευσης. \nΓίνετε και εσείς μέλος αυτής της ξεχωριστής παγκόσμιας κοινότητας! \nΚλείστε Θέση στη Δια Ζώσης Παρουσίαση έως 10/10 Εδώ.
URL:https://www.wspc.gr/event/wset-diploma-open-day-dia-zosis/
LOCATION:WSPC\, Γλαύκου 11\, Παλαιό Φάληρο\, Αττική\, 17564\, Greece
CATEGORIES:Diploma Open Day
ATTACH;FMTTYPE=image/png:https://www.wspc.gr/wp-content/uploads/2022/09/wspc-open-2022-800X400.png
END:VEVENT
BEGIN:VEVENT
DTSTART;TZID=Europe/Athens:20221014T190000
DTEND;TZID=Europe/Athens:20221014T210000
DTSTAMP:20260423T211149
CREATED:20220920T133123Z
LAST-MODIFIED:20221007T104657Z
UID:13161-1665774000-1665781200@www.wspc.gr
SUMMARY:Online Master Class: Food & Wine Matching for Beginners | Part C: Tasting
DESCRIPTION:Κόστος: €50\nΕισηγητής: Ευστάθιος Σάλτας\nDeadline Εγγραφών: 6 Οκτωβρίου \n\nΑπευθύνεται μόνο σπουδαστές Επιπέδου 1 και σε δυνητικούς σπουδαστές.\nΌποιος παρακολουθήσει και τα 3 τρία μέρη θα λάβει Certificate of Attendance.\nGet Ticket (τρόποι πληρωμής):\nAlpha Bank IBAN: GR33 0140 1180 1180 0233 0000 482 (WSPC Ε.Π.Ε).\nΤράπεζα Πειραιώς IBAN: GR73 0171 7270 0067 2711 3141 025 (Εργαστήριο Ελευθέρων Σπουδών).\nEurobank IBAN: GR06 0260 0190 0005 4020 1143 015 (Εργαστήριο Ελευθέρων Σπουδών Επαγγ. Κέντρο).\nΑιτιολογία Κατάθεσης: το ονοματεπώνυμο του σπουδαστή και τον τίτλο του Master Class: Food & Wine Matching for Beginners | Part C: Tasting
URL:https://www.wspc.gr/event/master-class-food-amp-wine-matching-for-beginners-part-c-tasting-2/
LOCATION:Crete
CATEGORIES:Online Master Class
END:VEVENT
BEGIN:VEVENT
DTSTART;VALUE=DATE:20221031
DTEND;VALUE=DATE:20221102
DTSTAMP:20260423T211149
CREATED:20221003T144519Z
LAST-MODIFIED:20221027T144621Z
UID:13598-1667174400-1667347199@www.wspc.gr
SUMMARY:Εκπαιδευτικό Πρόγραμμα Οινοτουρισμού
DESCRIPTION:Τη Δευτέρα 31/10 και την Τρίτη 1/11/22 θα διεξαχθεί διήμερο Εκπαιδευτικό Πρόγραμμα για τον Οινοτουρισμό από την Dr. Natalia Velikova\, Καθηγήτρια στο Texas Tech University με την υποστήριξη του Ιδρύματος Fulbright (Intercountry Lecturing Program). \nΑυτό το πρωτοποριακό – για τα ελληνικά δεδομένα – εκπαιδευτικό πρόγραμμα απευθύνεται πρωτίστως σε επαγγελματίες των κλάδων\, αλλά και σε όσους επιθυμούν να διευρύνουν το πεδίο των γνώσεων τους – συμβάλλοντας όλοι μαζί στην περαιτέρω εξέλιξη του Οινοτουρισμού στην Ελλάδα. \n\n– Το πρόγραμμα θα διεξαχθεί στην Αγγλική γλώσσα\,\n– Το πρόγραμμα θα διεξαχθεί στις εγκαταστάσεις μας.\n– Οι συμμετέχοντες θα λάβουν Certificate of Attendance.\n– Και τις δυο μέρες του προγράμματος θα παρέχεται στους συμμετέχοντες γεύμα. \n\nΗ Dr. Natalia Velikova είναι Υπότροφος Fulbright στη Βουλγαρία για το 2022-23 και η επίσκεψή της στην Ελλάδα και στο WSPC γίνεται μέσω του Intercountry Lecturing Program με την υποστήριξη του Ιδρύματος Fulbright (Fulbright Greece). Αντικείμενο της διδασκαλίας της αποτελεί ο Οινοτουρισμός καθώς και μια πληθώρα ενοτήτων γύρω από αυτόν\, όπως Advanced Wine Marketing and Tourism\, The Fundamentals of Wine Business\, Beverage Control Management\, International Retailing κ.α. \n\n*Για οποιαδήποτε ακύρωση προκύψει μετά τις 15 Οκτωβρίου\, ΔΕΝ επιστρέφεται το κόστος συμμετοχής. \nΓια να δείτε το πλήρες βιογραφικό της Dr. Velikova\, πατήστε εδώ. \n………………………………………………………………………………………………………………………………………………………………………………………………………………………………………………………………………………… \nOn Monday\, October 31st and Tuesday\, November 1st 2022 a two-day Wine Tourism Educational Programme will be conducted by Dr. Natalia Velikova\, Professor at the Texas Tech University with the support of the Fulbright Foundation in Greece (Intercountry Lecturing Program). \nThis pioneering – for Greek standards – educational program is primarily aimed towards professionals in the field\, as well as to those who wish to expand their field of knowledge – contributing together to the further development of Wine Tourism in Greece. \n– The programme will be conducted in English.\n– The programme will be held at our facilities.\n– Participants will receive a Certificate of Attendance.\n– Lunch will be provided to participants on both days of the programme. \nDr. Natalia Velikova is a Fulbright Scholar for 2022-23 in Bulgaria. Her visit to Greece and WSPC is realized through the Intercountry Lecturing Program with the support of the Fulbright Foundation (Fulbright Greece). She teaches Wine Tourism as well as a multitude of subjects relating to it\, such as Advanced Wine Marketing and Tourism\, The Fundamentals of Wine Business\, Beverage Control Management\, International Retailing etc. \nYou can see her full bio here. \n\n*NO refunds will be provided for any cancellations after October 15.
URL:https://www.wspc.gr/event/ekpaideytiko-programma-oinotoyrismoy/
LOCATION:WSPC\, Γλαύκου 11\, Παλαιό Φάληρο\, Αττική\, 17564\, Greece
CATEGORIES:Εκπαιδευτικό Πρόγραμμα
END:VEVENT
END:VCALENDAR