BEGIN:VCALENDAR
VERSION:2.0
PRODID:-//WSPC - ECPv5.16.3//NONSGML v1.0//EN
CALSCALE:GREGORIAN
METHOD:PUBLISH
X-ORIGINAL-URL:https://www.wspc.gr
X-WR-CALDESC:Events for WSPC
REFRESH-INTERVAL;VALUE=DURATION:PT1H
X-Robots-Tag:noindex
X-PUBLISHED-TTL:PT1H
BEGIN:VTIMEZONE
TZID:Europe/Athens
BEGIN:DAYLIGHT
TZOFFSETFROM:+0200
TZOFFSETTO:+0300
TZNAME:EEST
DTSTART:20220327T010000
END:DAYLIGHT
BEGIN:STANDARD
TZOFFSETFROM:+0300
TZOFFSETTO:+0200
TZNAME:EET
DTSTART:20221030T010000
END:STANDARD
END:VTIMEZONE
BEGIN:VEVENT
DTSTART;VALUE=DATE:20220303
DTEND;VALUE=DATE:20220304
DTSTAMP:20260424T125145
CREATED:20211112T091959Z
LAST-MODIFIED:20211112T091959Z
UID:7784-1646265600-1646351999@www.wspc.gr
SUMMARY:Παγκόσμια Ημέρα Ζεστού Κρασιού
DESCRIPTION:Παγκόσμια Ημέρα Ζεστού Κρασιού (Mulled Wine Day)
URL:https://www.wspc.gr/event/pagkosmia-imera-zestoy-krasioy/
LOCATION:Crete
CATEGORIES:Παγκόσμια Ημέρα
END:VEVENT
BEGIN:VEVENT
DTSTART;TZID=Europe/Athens:20220303T180000
DTEND;TZID=Europe/Athens:20220303T200000
DTSTAMP:20260424T125145
CREATED:20220128T122104Z
LAST-MODIFIED:20220216T141237Z
UID:10362-1646330400-1646337600@www.wspc.gr
SUMMARY:ΔΙΑ ΖΩΣΗΣ Masterclass: Coffee-Cocoa-Tea-Wine Pairing
DESCRIPTION:Εισηγητής: Ανδρέας Ματθίδης DipWSET\, Q-Grader \n\nΑπευθύνεται μόνο σε σπουδαστές Επιπέδου 1 και σε δυνητικούς σπουδαστές.\nΠεριορισμένος αριθμός θέσεων. Δικαίωμα συμμετοχής έχουν όσοι διαθέτουν πιστοποιητικό εμβολιασμού ή νόσησης.
URL:https://www.wspc.gr/event/dia-zosis-masterclass-coffee-cocoa-tea-wine-pairing/
LOCATION:WSPC\, Γλαύκου 11\, Παλαιό Φάληρο\, Αττική\, 17564\, Greece
CATEGORIES:Δια Ζώσης Master Class
END:VEVENT
BEGIN:VEVENT
DTSTART;TZID=Europe/Athens:20220312T100000
DTEND;TZID=Europe/Athens:20220312T190000
DTSTAMP:20260424T125145
CREATED:20211112T142409Z
LAST-MODIFIED:20211112T142704Z
UID:7873-1647079200-1647111600@www.wspc.gr
SUMMARY:«Οινόραμα»
DESCRIPTION:«Οινόραμα»\nΤο Οινόραμα διοργανώνεται και φέτος στο κέντρο της \nΑθήνας\, στο Ζάππειο Μέγαρο\, ένα χώρο που έχει ταυτιστεί με την έκθεση και έχει αποδειχθεί ιδανικός για την προβολή του κρασιού.
URL:https://www.wspc.gr/event/oinorama/
LOCATION:Ζάππειο Μέγαρο\, Λεωφόρος Βασιλίσσης Όλγας\, Αθήνα\, Αττική\, 10557\, Ελλάδα
CATEGORIES:Εκθέσεις
ORGANIZER;CN="%CE%9F%CE%99%CE%9D%CE%9F%CE%A1%CE%91%CE%9C%CE%91":MAILTO:info@vinetum.gr
END:VEVENT
BEGIN:VEVENT
DTSTART;TZID=Europe/Athens:20220313T100000
DTEND;TZID=Europe/Athens:20220313T190000
DTSTAMP:20260424T125145
CREATED:20211112T143343Z
LAST-MODIFIED:20211112T143343Z
UID:7890-1647165600-1647198000@www.wspc.gr
SUMMARY:«Οινόραμα»
DESCRIPTION:«Οινόραμα»\nΤο Οινόραμα διοργανώνεται και φέτος στο κέντρο της \nΑθήνας\, στο Ζάππειο Μέγαρο\, ένα χώρο που έχει ταυτιστεί με την έκθεση και έχει αποδειχθεί ιδανικός για την προβολή του κρασιού.
URL:https://www.wspc.gr/event/oinorama-2/
LOCATION:Ζάππειο Μέγαρο\, Λεωφόρος Βασιλίσσης Όλγας\, Αθήνα\, Αττική\, 10557\, Ελλάδα
CATEGORIES:Εκθέσεις
ORGANIZER;CN="%CE%9F%CE%99%CE%9D%CE%9F%CE%A1%CE%91%CE%9C%CE%91":MAILTO:info@vinetum.gr
END:VEVENT
BEGIN:VEVENT
DTSTART;TZID=Europe/Athens:20220314T100000
DTEND;TZID=Europe/Athens:20220314T190000
DTSTAMP:20260424T125145
CREATED:20211112T143537Z
LAST-MODIFIED:20211112T143537Z
UID:7892-1647252000-1647284400@www.wspc.gr
SUMMARY:«Οινόραμα»
DESCRIPTION:«Οινόραμα»\nΤο Οινόραμα διοργανώνεται και φέτος στο κέντρο της \nΑθήνας\, στο Ζάππειο Μέγαρο\, ένα χώρο που έχει ταυτιστεί με την έκθεση και έχει αποδειχθεί ιδανικός για την προβολή του κρασιού.
URL:https://www.wspc.gr/event/oinorama-3/
LOCATION:Ζάππειο Μέγαρο\, Λεωφόρος Βασιλίσσης Όλγας\, Αθήνα\, Αττική\, 10557\, Ελλάδα
CATEGORIES:Εκθέσεις
ORGANIZER;CN="%CE%9F%CE%99%CE%9D%CE%9F%CE%A1%CE%91%CE%9C%CE%91":MAILTO:info@vinetum.gr
END:VEVENT
END:VCALENDAR