BEGIN:VCALENDAR
VERSION:2.0
PRODID:-//WSPC - ECPv5.16.3//NONSGML v1.0//EN
CALSCALE:GREGORIAN
METHOD:PUBLISH
X-WR-CALNAME:WSPC
X-ORIGINAL-URL:https://www.wspc.gr
X-WR-CALDESC:Events for WSPC
REFRESH-INTERVAL;VALUE=DURATION:PT1H
X-Robots-Tag:noindex
X-PUBLISHED-TTL:PT1H
BEGIN:VTIMEZONE
TZID:Europe/Athens
BEGIN:DAYLIGHT
TZOFFSETFROM:+0200
TZOFFSETTO:+0300
TZNAME:EEST
DTSTART:20220327T010000
END:DAYLIGHT
BEGIN:STANDARD
TZOFFSETFROM:+0300
TZOFFSETTO:+0200
TZNAME:EET
DTSTART:20221030T010000
END:STANDARD
END:VTIMEZONE
BEGIN:VEVENT
DTSTART;TZID=Europe/Athens:20220202T180000
DTEND;TZID=Europe/Athens:20220202T200000
DTSTAMP:20260424T143525
CREATED:20211221T112744Z
LAST-MODIFIED:20220110T142048Z
UID:9821-1643824800-1643832000@www.wspc.gr
SUMMARY:Masterclass: Promontory Vertical
DESCRIPTION:Μια σπάνια κάθετη γευστική δοκιμή\, ενός σπάνιου κρασιού\, μόνο για τους σπουδαστές του WSPC.\nΑκυκλοφόρητες εσοδείες 2012\, 2014\, 2015 & 2016\, με τιμές υψηλότερες των €800. \nΤο Promontory είναι το τρίτο οινοποιείο της οικογένειας Harlan\, μετά τα θρυλικά Harlan Estate και Bond. Είναι ένα θαύμα που τρίτωσε – από ότι φαίνεται\, ο Bill και ο Will Harlan δεν δημιουργούν\, πάντα μεγαλουργούν\, φυσικά στην Napa Valley της Καλιφόρνια. \n“Aπό το υλικό που φτιάχνονται τα όνειρα” \nΔια Ζώσης και Online γευσιγνωσία\nπου θα παρουσιάσει ο Joe Rorke\, Εμπορικός Διευθυντής του Κτήματος μαζί με τον Κωνσταντίνο Λαζαράκη MW και τη διοργάνωση του WSPC.
URL:https://www.wspc.gr/event/masterclass-promontory-vertical/
LOCATION:WSPC\, Γλαύκου 11\, Παλαιό Φάληρο\, Αττική\, 17564\, Greece
CATEGORIES:Online Master Class,Δια Ζώσης Master Class
END:VEVENT
BEGIN:VEVENT
DTSTART;TZID=Europe/Athens:20220211T100000
DTEND;TZID=Europe/Athens:20220211T190000
DTSTAMP:20260424T143525
CREATED:20220128T092255Z
LAST-MODIFIED:20220128T120024Z
UID:10341-1644573600-1644606000@www.wspc.gr
SUMMARY:HORECA
DESCRIPTION:Athens Metropolitan Expo A.E. \nΔιεθνής Αερολιμένας Αθηνών « Ελευθέριος Βενιζέλος»\, 19019\, Σπάτα – Αττικής \nΠερίπτερο C2:1 Hall:1
URL:https://www.wspc.gr/event/horeca/
LOCATION:Crete
CATEGORIES:Εκθέσεις
END:VEVENT
BEGIN:VEVENT
DTSTART;TZID=Europe/Athens:20220212T100000
DTEND;TZID=Europe/Athens:20220212T190000
DTSTAMP:20260424T143525
CREATED:20220128T115647Z
LAST-MODIFIED:20220128T115952Z
UID:10340-1644660000-1644692400@www.wspc.gr
SUMMARY:HORECA
DESCRIPTION:Athens Metropolitan Expo A.E. \nΔιεθνής Αερολιμένας Αθηνών « Ελευθέριος Βενιζέλος»\, 19019\, Σπάτα – Αττικής \nΠερίπτερο C2:1 Hall:1
URL:https://www.wspc.gr/event/horeca-2/
LOCATION:Crete
END:VEVENT
BEGIN:VEVENT
DTSTART;TZID=Europe/Athens:20220213T100000
DTEND;TZID=Europe/Athens:20220213T190000
DTSTAMP:20260424T143525
CREATED:20220128T120146Z
LAST-MODIFIED:20220128T120146Z
UID:10354-1644746400-1644778800@www.wspc.gr
SUMMARY:HORECA
DESCRIPTION:Athens Metropolitan Expo A.E. \nΔιεθνής Αερολιμένας Αθηνών « Ελευθέριος Βενιζέλος»\, 19019\, Σπάτα – Αττικής \nΠερίπτερο C2:1 Hall:1
URL:https://www.wspc.gr/event/horeca-3/
LOCATION:Crete
END:VEVENT
BEGIN:VEVENT
DTSTART;TZID=Europe/Athens:20220214T100000
DTEND;TZID=Europe/Athens:20220214T183000
DTSTAMP:20260424T143525
CREATED:20220128T120232Z
LAST-MODIFIED:20220128T120232Z
UID:10356-1644832800-1644863400@www.wspc.gr
SUMMARY:HORECA
DESCRIPTION:Athens Metropolitan Expo A.E. \nΔιεθνής Αερολιμένας Αθηνών « Ελευθέριος Βενιζέλος»\, 19019\, Σπάτα – Αττικής \nΠερίπτερο C2:1 Hall:1
URL:https://www.wspc.gr/event/horeca-4/
LOCATION:Crete
END:VEVENT
END:VCALENDAR