BEGIN:VCALENDAR
VERSION:2.0
PRODID:-//WSPC - ECPv5.16.3//NONSGML v1.0//EN
CALSCALE:GREGORIAN
METHOD:PUBLISH
X-WR-CALNAME:WSPC
X-ORIGINAL-URL:https://www.wspc.gr
X-WR-CALDESC:Events for WSPC
REFRESH-INTERVAL;VALUE=DURATION:PT1H
X-Robots-Tag:noindex
X-PUBLISHED-TTL:PT1H
BEGIN:VTIMEZONE
TZID:Europe/Athens
BEGIN:DAYLIGHT
TZOFFSETFROM:+0200
TZOFFSETTO:+0300
TZNAME:EEST
DTSTART:20210328T010000
END:DAYLIGHT
BEGIN:STANDARD
TZOFFSETFROM:+0300
TZOFFSETTO:+0200
TZNAME:EET
DTSTART:20211031T010000
END:STANDARD
END:VTIMEZONE
BEGIN:VEVENT
DTSTART;TZID=Europe/Athens:20211202T180000
DTEND;TZID=Europe/Athens:20211202T200000
DTSTAMP:20260425T145941
CREATED:20211111T130823Z
LAST-MODIFIED:20211111T135510Z
UID:7703-1638468000-1638475200@www.wspc.gr
SUMMARY:ΔΙΑ ΖΩΣΗΣ MASTER CLASS: Σπάνια & Παλαιωμένα Ξινόμαυρα
DESCRIPTION:ΔΙΑ ΖΩΣΗΣ MASTERCLASS\nΚόστος: €100\nΕισηγητής: Κωνσταντίνος Λαζαράκης MW \n\nΑπευθύνεται μόνο σε σπουδαστές Επιπέδου 3 και Diploma.\nΘα δοκιμαστούν 16 παλαιωμένες φιάλες Ξινόμαυρου.\nΠεριορισμένος αριθμός θέσεων. Δικαίωμα συμμετοχής έχουν όσοι διαθέτουν πιστοποιητικό εμβολιασμού ή νόσησης.
URL:https://www.wspc.gr/event/dia-zosis-master-class-spania-amp-palaiomena-xinomayra/
LOCATION:WSPC\, Γλαύκου 11\, Παλαιό Φάληρο\, Αττική\, 17564\, Greece
CATEGORIES:Δια Ζώσης Master Class
END:VEVENT
BEGIN:VEVENT
DTSTART;TZID=Europe/Athens:20211128T163000
DTEND;TZID=Europe/Athens:20211128T203000
DTSTAMP:20260425T145941
CREATED:20211112T143127Z
LAST-MODIFIED:20211112T153858Z
UID:7887-1638117000-1638131400@www.wspc.gr
SUMMARY:«Χάρτης των Γεύσεων»
DESCRIPTION:Χάρτης των Γεύσεων 2021\nΘα θέλαμε να σας ευχαριστήσουμε και πάλι για τη συμμετοχή σας στον Χάρτη των Γεύσεων 2021 που θα πραγματοποιηθεί το διήμερο Σάββατο 27 Νοεμβρίου – Κυριακή 28 Νοεμβρίου στο Συνεδριακό Κέντρο Ιωάννης Βελλίδης. \nΌπως σας έχουμε ήδη ενημερώσει ο Χάρτης των Γεύσεων θα λειτουργήσει σε ένα απολύτως ασφαλές περιβάλλον για εκθέτες και επισκέπτες\, με την τήρηση Totally Covid-free πρωτοκόλλου. Αυτό σημαίνει ότι η είσοδος στο Συνεδριακό Κέντρο Ιωάννης Βελλίδης επιτρέπεται αποκλειστικά σε εμβολιασμένους ή νοσήσαντες με την επίδειξη του GreenPass. \nΘα βρισκόμαστε στο Περίπτερο Ε20!
URL:https://www.wspc.gr/event/chartis-ton-geyseon-2/
LOCATION:Συνεδριακό Κέντρο Ιωάννης Βελλίδης\, Λεωφόρος Στρατού 3\, Θεσσαλονίκη\, 54636\, Ελλάδα
CATEGORIES:Εκθέσεις
END:VEVENT
BEGIN:VEVENT
DTSTART;TZID=Europe/Athens:20211127T120000
DTEND;TZID=Europe/Athens:20211127T160000
DTSTAMP:20260425T145941
CREATED:20211112T141324Z
LAST-MODIFIED:20211112T142734Z
UID:7869-1638014400-1638028800@www.wspc.gr
SUMMARY:«Χάρτης των Γεύσεων»
DESCRIPTION:Χάρτης των Γεύσεων 2021\nΘα θέλαμε να σας ευχαριστήσουμε και πάλι για τη συμμετοχή σας στον Χάρτη των Γεύσεων 2021 που θα πραγματοποιηθεί το διήμερο Σάββατο 27 Νοεμβρίου – Κυριακή 28 Νοεμβρίου στο Συνεδριακό Κέντρο Ιωάννης Βελλίδης. \nΌπως σας έχουμε ήδη ενημερώσει ο Χάρτης των Γεύσεων θα λειτουργήσει σε ένα απολύτως ασφαλές περιβάλλον για εκθέτες και επισκέπτες\, με την τήρηση Totally Covid-free πρωτοκόλλου. Αυτό σημαίνει ότι η είσοδος στο Συνεδριακό Κέντρο Ιωάννης Βελλίδης επιτρέπεται αποκλειστικά σε εμβολιασμένους ή νοσήσαντες με την επίδειξη του GreenPass. \nΘα βρισκόμαστε στο Περίπτερο Ε20!
URL:https://www.wspc.gr/event/chartis-ton-geyseon/
LOCATION:Συνεδριακό Κέντρο Ιωάννης Βελλίδης\, Λεωφόρος Στρατού 3\, Θεσσαλονίκη\, 54636\, Ελλάδα
CATEGORIES:Εκθέσεις
END:VEVENT
BEGIN:VEVENT
DTSTART;TZID=Europe/Athens:20211127T110000
DTEND;TZID=Europe/Athens:20211127T130000
DTSTAMP:20260425T145941
CREATED:20211111T130210Z
LAST-MODIFIED:20211111T135347Z
UID:7701-1638010800-1638018000@www.wspc.gr
SUMMARY:Master Class: Wine Production and Ageing for Beginners | Part C: Tasting
DESCRIPTION:ONLINE MASTERCLASS\nΚόστος: €50\nΕισηγητής: Δημήτρης Μότσος DipWSET\nDeadline Εγγραφών: 19 Νοεμβρίου \n\nΑπευθύνεται μόνο σπουδαστές Επιπέδου 1 και σε δυνητικούς σπουδαστές.\nΌποιος παρακολουθήσει και τα 3 τρία μέρη θα λάβει Certificate of Attendance.
URL:https://www.wspc.gr/event/master-class-wine-production-and-ageing-for-beginners-part-c-tasting/
LOCATION:Online\, Online
CATEGORIES:Online Master Class
END:VEVENT
BEGIN:VEVENT
DTSTART;TZID=Europe/Athens:20211120T110000
DTEND;TZID=Europe/Athens:20211120T130000
DTSTAMP:20260425T145941
CREATED:20211111T125752Z
LAST-MODIFIED:20211111T135245Z
UID:7699-1637406000-1637413200@www.wspc.gr
SUMMARY:Master Class: Food & Wine Matching for Beginners | Part C: Tasting
DESCRIPTION:ONLINE MASTERCLASS\nΚόστος: €50\nΕισηγητής: Ευάγγελος Ψωφίδης\nDeadline Εγγραφών: 8 Νοεμβρίου \n\nΑπευθύνεται μόνο σπουδαστές Επιπέδου 1 και σε δυνητικούς σπουδαστές.\nΌποιος παρακολουθήσει και τα 3 τρία μέρη θα λάβει Certificate of Attendance.
URL:https://www.wspc.gr/event/master-class-food-amp-wine-matching-for-beginners-part-c-tasting/
LOCATION:Online\, Online
CATEGORIES:Online Master Class
END:VEVENT
BEGIN:VEVENT
DTSTART;TZID=Europe/Athens:20211117T180000
DTEND;TZID=Europe/Athens:20211117T200000
DTSTAMP:20260425T145941
CREATED:20211111T125054Z
LAST-MODIFIED:20211111T135118Z
UID:7697-1637172000-1637179200@www.wspc.gr
SUMMARY:Webinar: Wine Production & Ageing for Beginners | Part B: Mastering Maturation
DESCRIPTION:WEBINAR\nΕισηγητής: Δημήτρης Μότσος DipWSET \n\nΑπευθύνεται μόνο σπουδαστές Επιπέδου 1 και σε δυνητικούς σπουδαστές.\nΌποιος παρακολουθήσει και τα 3 τρία μέρη θα λάβει Certificate of Attendance.
URL:https://www.wspc.gr/event/webinar-wine-production-amp-ageing-for-beginners-part-b-mastering-maturation/
LOCATION:Online\, Online
CATEGORIES:Webinar
END:VEVENT
BEGIN:VEVENT
DTSTART;TZID=Europe/Athens:20211115T180000
DTEND;TZID=Europe/Athens:20211115T200000
DTSTAMP:20260425T145941
CREATED:20211111T123425Z
LAST-MODIFIED:20211111T134139Z
UID:7692-1636999200-1637006400@www.wspc.gr
SUMMARY:Webinar: Wine Production & Ageing for Beginners | Part A: From Vine to Glass
DESCRIPTION:WEBINAR\nΕισηγητής: Δημήτρης Μότσος DipWSET \n\nΑπευθύνεται μόνο σπουδαστές Επιπέδου 1 και σε δυνητικούς σπουδαστές.\nΌποιος παρακολουθήσει και τα 3 τρία μέρη θα λάβει Certificate of Attendance.
URL:https://www.wspc.gr/event/webinar-wine-production-amp-ageing-for-begginers-part-a-from-vine-to-glass/
LOCATION:Online\, Online
CATEGORIES:Webinar
END:VEVENT
BEGIN:VEVENT
DTSTART;TZID=Europe/Athens:20211101T190000
DTEND;TZID=Europe/Athens:20211101T210000
DTSTAMP:20260425T145941
CREATED:20211025T075321Z
LAST-MODIFIED:20211111T134015Z
UID:6868-1635793200-1635800400@www.wspc.gr
SUMMARY:WSPC - The Extra Curricular Activities
DESCRIPTION:ONLINE MASTER CLASS\nΟινοποιοί Βορείου Ελλάδος “Xinomavro: love or hate?”\nΕισηγητής: Κωνσταντίνος Λαζαράκης MW\nDeadline εγγραφών: 20 Οκτωβρίου \n!Ελάχιστες Διαθέσιμες Θέσεις
URL:https://www.wspc.gr/event/wspc-the-extra-curricular-activities/
LOCATION:Online\, Online
CATEGORIES:Online Master Class
END:VEVENT
BEGIN:VEVENT
DTSTART;TZID=Europe/Athens:20211018T180000
DTEND;TZID=Europe/Athens:20211022T203000
DTSTAMP:20260425T145941
CREATED:20210201T160033Z
LAST-MODIFIED:20210426T112548Z
UID:4531-1634580000-1634934600@www.wspc.gr
SUMMARY:WSET Επίπεδο 1
DESCRIPTION:
URL:https://www.wspc.gr/event/wset-%ce%b5%cf%80%ce%af%cf%80%ce%b5%ce%b4%ce%bf-1/
LOCATION:WSPC\, Γλαύκου 11\, Παλαιό Φάληρο\, Αττική\, 17564\, Greece
CATEGORIES:WSET Επίπεδο 1 Συμβατικό
END:VEVENT
BEGIN:VEVENT
DTSTART;TZID=Europe/Athens:20211011T180000
DTEND;TZID=Europe/Athens:20211014T203000
DTSTAMP:20260425T145941
CREATED:20210201T160130Z
LAST-MODIFIED:20210426T112628Z
UID:4534-1633975200-1634243400@www.wspc.gr
SUMMARY:WSET Επίπεδο 1
DESCRIPTION:
URL:https://www.wspc.gr/event/wset-%ce%b5%cf%80%ce%af%cf%80%ce%b5%ce%b4%ce%bf-1-2/
LOCATION:WSPC\, Γλαύκου 11\, Παλαιό Φάληρο\, Αττική\, 17564\, Greece
CATEGORIES:WSET Επίπεδο 1 Συμβατικό
END:VEVENT
END:VCALENDAR