BEGIN:VCALENDAR
VERSION:2.0
PRODID:-//WSPC - ECPv5.16.3//NONSGML v1.0//EN
CALSCALE:GREGORIAN
METHOD:PUBLISH
X-ORIGINAL-URL:https://www.wspc.gr
X-WR-CALDESC:Events for WSPC
REFRESH-INTERVAL;VALUE=DURATION:PT1H
X-Robots-Tag:noindex
X-PUBLISHED-TTL:PT1H
BEGIN:VTIMEZONE
TZID:Europe/Athens
BEGIN:DAYLIGHT
TZOFFSETFROM:+0200
TZOFFSETTO:+0300
TZNAME:EEST
DTSTART:20230326T010000
END:DAYLIGHT
BEGIN:STANDARD
TZOFFSETFROM:+0300
TZOFFSETTO:+0200
TZNAME:EET
DTSTART:20231029T010000
END:STANDARD
END:VTIMEZONE
BEGIN:VEVENT
DTSTART;TZID=Europe/Athens:20231210T120000
DTEND;TZID=Europe/Athens:20231210T200000
DTSTAMP:20260426T005158
CREATED:20231208T145613Z
LAST-MODIFIED:20231208T145613Z
UID:26160-1702209600-1702238400@www.wspc.gr
SUMMARY:Αφρός & Νέκταρ
DESCRIPTION:Στα πλαίσια της έκθεσης Αφρός & Νέκταρ της Vinetum που διοργανώνεται στο Ωδείο Αθηνών (Αίθουσα Φουαγιέ Τεχνών) την Κυριακή 10 Δεκεμβρίου\, το WSPC με τον εισηγητή Ευστάθιο Σάλτα DipWSET παρουσιάζει το masterclass «Αφρώδεις οίνοι\, τα πιο δύσκολα στην παραγωγή κρασιά;» στις 13:00. \nΗ έκθεση παρουσιάζει αυξημένο ενδιαφέρον για κάθε οινόφιλο και κάθε σπουδαστή για τους εξής λόγους: \n\nΤόσο τα αφρώδη ―και ακόμα περισσότερο τα γλυκά κρασιά― είναι πάντοτε τα πιο παραμελημένα από τους γευσιγνώστες στις άλλες εκθέσεις κρασιού· είναι τα κρασιά εκείνα που αφήνουμε τελευταία και συχνά ξεχνάμε να δοκιμάσουμε. Κι όμως\, είναι δύο κατηγορίες «δύσκολες» και πολύπλοκες\, με πολλά διαφορετικά στυλ και τρόπους οινοποίησης\, που ελάχιστοι κατέχουν σε βάθος. Στην Αφρός & Νέκταρ συμμετέχουν οινοποιεία απ’ όλη την Ελλάδα αλλά και εισαγωγείς με ξένα κρασιά.\nΗ Vinetum\, σε συνεργασία με τον διεθνή διαγωνισμό οίνων «Concours Mondial de Bruxelles»\, έχει φέρει στην έκθεση 90 βραβευμένα αφρώδη και γλυκά κρασιά από 20 χώρες\, ανάμεσά τους πολλά που δύσκολα κάποιος συναντά έξω από τις χώρες τους.\nΣτις 17:00 θα γίνει ένα Masterclass με τους δημοσιογράφους Σίμο Γεωργόπουλο και Θάλεια Τσιχλάκη\, οι οποίοι μαζί με τον σεφ-ζαχαροπλάστη Σπύρο Πεδιαδιτάκη\, θα εξερευνήσουν με τη συμμετοχή του κοινού τον κόσμο της αρμονίας στη γεύση μεταξύ γλυκού και κρασιού\, δοκιμάζοντας συνδιαστικά 6 κρασιά με 3 γλυκά.\n\nΚλείστε τα εισιτήρια σας εδώ. \nΜάθετε περισσότερα εδώ.
URL:https://www.wspc.gr/event/%ce%b1%cf%86%cf%81%cf%8c%cf%82-%ce%bd%ce%ad%ce%ba%cf%84%ce%b1%cf%81/
LOCATION:Ωδείο Αθήνων\, Βασ. Γεωργίου B 17-19\, Αθήνα\, 10675\, Ελλάδα
CATEGORIES:Εκθέσεις
ORGANIZER;CN="Vinetum":MAILTO:info@vinetum.gr
END:VEVENT
END:VCALENDAR