BEGIN:VCALENDAR
VERSION:2.0
PRODID:-//WSPC - ECPv5.16.3//NONSGML v1.0//EN
CALSCALE:GREGORIAN
METHOD:PUBLISH
X-WR-CALNAME:WSPC
X-ORIGINAL-URL:https://www.wspc.gr
X-WR-CALDESC:Events for WSPC
REFRESH-INTERVAL;VALUE=DURATION:PT1H
X-Robots-Tag:noindex
X-PUBLISHED-TTL:PT1H
BEGIN:VTIMEZONE
TZID:Europe/Athens
BEGIN:DAYLIGHT
TZOFFSETFROM:+0200
TZOFFSETTO:+0300
TZNAME:EEST
DTSTART:20230326T010000
END:DAYLIGHT
BEGIN:STANDARD
TZOFFSETFROM:+0300
TZOFFSETTO:+0200
TZNAME:EET
DTSTART:20231029T010000
END:STANDARD
END:VTIMEZONE
BEGIN:VEVENT
DTSTART;TZID=Europe/Athens:20231121T183000
DTEND;TZID=Europe/Athens:20231121T203000
DTSTAMP:20260425T205458
CREATED:20231109T180220Z
LAST-MODIFIED:20231120T130707Z
UID:25200-1700591400-1700598600@www.wspc.gr
SUMMARY:Τα Ξινόμαυρα του Κτήματος ΚΥΡ-ΓΙΑΝΝΗ: Αναζητήσεις & Kατακτήσεις
DESCRIPTION:Η «ανατομία» του Ξινόμαυρου από το Κτήμα Κυρ-Γιάννη. Για πρώτη φορά\, εξερευνούμε την μοναδική ερυθρή ποικιλία στα κλασικά βορειοελλαδίτικα terroirs της\, μέσα από τη «ματιά»\, το όραμα και τη συστηματική δουλειά ενός Κτήματος. Από τη Νάουσα και το Αμύνταιο στη Γουμένισσα. \nΜια σπάνια διαδρομή σπουδής και αφοσίωσης πάνω στο Ξινόμαυρο\, μέσα από αμπελουργικούς και οινοποιητικούς πειραματισμούς 3 δεκαετιών. Μέσα από ενδιαφέρουσες αναζητήσεις και πολυσήμαντες κατακτήσεις. Κτίζοντας την παράδοση μέσα από την καινοτομία. \nΜε τον Στέλλιο Μπουτάρη και τον επικεφαλής οινολόγο του Κτήματος Κυρ-Γιάννη\, Αντώνη Κιοσέογλου. \nΚόστος συμμετοχής: 48€ + ΦΠΑ
URL:https://www.wspc.gr/event/masterclass-kyr-yianni-xinomavro/
LOCATION:WSPC\, Γλαύκου 11\, Παλαιό Φάληρο\, Αττική\, 17564\, Greece
CATEGORIES:Δια Ζώσης Master Class
END:VEVENT
END:VCALENDAR