BEGIN:VCALENDAR
VERSION:2.0
PRODID:-//WSPC - ECPv5.16.3//NONSGML v1.0//EN
CALSCALE:GREGORIAN
METHOD:PUBLISH
X-ORIGINAL-URL:https://www.wspc.gr
X-WR-CALDESC:Events for WSPC
REFRESH-INTERVAL;VALUE=DURATION:PT1H
X-Robots-Tag:noindex
X-PUBLISHED-TTL:PT1H
BEGIN:VTIMEZONE
TZID:Europe/Athens
BEGIN:DAYLIGHT
TZOFFSETFROM:+0200
TZOFFSETTO:+0300
TZNAME:EEST
DTSTART:20230326T010000
END:DAYLIGHT
BEGIN:STANDARD
TZOFFSETFROM:+0300
TZOFFSETTO:+0200
TZNAME:EET
DTSTART:20231029T010000
END:STANDARD
END:VTIMEZONE
BEGIN:VEVENT
DTSTART;TZID=Europe/Athens:20231023T180000
DTEND;TZID=Europe/Athens:20231023T203000
DTSTAMP:20260425T141324
CREATED:20230727T102734Z
LAST-MODIFIED:20240715T084104Z
UID:21727-1698084000-1698093000@www.wspc.gr
SUMMARY:Launching Τhe Oxford Companion to Wine – 5th Edition in Greece!
DESCRIPTION:Στις 23 Οκτωβρίου 2023 θα έχετε την ευκαιρία να παρακολουθήσετε ένα από τα πρώτα – στον κόσμο – launching events της 5ης έκδοσης του The Oxford Companion to Wine. \nΣε αυτό το event/ Masterclass θα παρίσταται η ίδια η Julia Harding MW – lead editor της 5ης έκδοσης\, και ο Κωνσταντίνος Λαζαράκης Master of Wine (MW) – contributing  author για το κεφάλαιο της Ελλάδας. \nΗ Julia Harding MW θα μας ταξιδέψει σε μία από τις σπουδαιότερες και σπανιότερες οινοπαραγωγικές χώρες – την Πορτογαλία.\nΕννέα super exclusive ετικέτες κρασιών θα έρθουν αποκλειστικά για αυτό το Masterclass από την Πορτογαλία\, επιλεγμένες από την ίδια. \n\nLaunching Τhe Oxford Companion to Wine 5th Edition in Greece! \n23/10/23 | 18:00 – 20:30 | WSPC\nΕισηγητές: Julia Harding MW & Κωνσταντίνος Λαζαράκης Master of Wine (MW)\nDeadline εγγραφών: 16 Οκτωβρίου 2023\nΚόστος Συμμετοχής: €115 + Φ.Π.Α. \n– Απευθύνεται σε όλους!\n– Στο κόστος συμμετοχής συμπεριλαμβάνεται αντίτυπο του βιβλίου\, υπογεγραμμένο από τους δύο εισηγητές.\n– Το Masterclass θα πραγματοποιηθεί στα Αγγλικά.\n– Περιορισμένος αριθμός θέσεων. \n\nΓια οποιαδήποτε ακύρωση προκύψει μετά τις 10 Οκτωβρίου\, ΔΕΝ επιστρέφεται το κόστος του εισιτηρίου. \n\n\n\n\n\n\n\n\n\n\n\nΤρόποι πληρωμής:\nΜε κατάθεση σε Τραπεζικό λογαριασμό:\n\nAlpha Bank IBAN: GR33 0140 1180 1180 0233 0000 482 (WSPC Ε.Π.Ε).\nΤράπεζα Πειραιώς IBAN: GR73 0171 7270 0067 2711 3141 025 (Εργαστήριο Ελευθέρων Σπουδών).\nEurobank IBAN: GR06 0260 0190 0005 4020 1143 015 (Εργαστήριο Ελευθέρων Σπουδών Επαγγ. Κέντρο).\n\nΑιτιολογία Κατάθεσης: Masterclass & ονοματεπώνυμο \nΜε Πιστωτική/ Χρεωστική κάρτα Visa & MasterCard
URL:https://www.wspc.gr/event/launching-the-oxford-companion-to-wine-5th-edition-in-greece/
LOCATION:WSPC\, Γλαύκου 11\, Παλαιό Φάληρο\, Αττική\, 17564\, Greece
CATEGORIES:Δια Ζώσης Master Class
END:VEVENT
END:VCALENDAR