BEGIN:VCALENDAR
VERSION:2.0
PRODID:-//WSPC - ECPv5.16.3//NONSGML v1.0//EN
CALSCALE:GREGORIAN
METHOD:PUBLISH
X-WR-CALNAME:WSPC
X-ORIGINAL-URL:https://www.wspc.gr
X-WR-CALDESC:Events for WSPC
REFRESH-INTERVAL;VALUE=DURATION:PT1H
X-Robots-Tag:noindex
X-PUBLISHED-TTL:PT1H
BEGIN:VTIMEZONE
TZID:Europe/Athens
BEGIN:DAYLIGHT
TZOFFSETFROM:+0200
TZOFFSETTO:+0300
TZNAME:EEST
DTSTART:20230326T010000
END:DAYLIGHT
BEGIN:STANDARD
TZOFFSETFROM:+0300
TZOFFSETTO:+0200
TZNAME:EET
DTSTART:20231029T010000
END:STANDARD
END:VTIMEZONE
BEGIN:VEVENT
DTSTART;TZID=Europe/Athens:20231013T150000
DTEND;TZID=Europe/Athens:20231013T170000
DTSTAMP:20260426T020009
CREATED:20230929T124458Z
LAST-MODIFIED:20230929T124458Z
UID:23408-1697209200-1697216400@www.wspc.gr
SUMMARY:Diploma Open Day - Online
DESCRIPTION:Interested in enrolling onto WSET DIPLOMA IN WINES\, the flagship WSET qualification and one of the top choices of the global wine professional? \nJoin our online DIPLOMA OPEN DAY session that will take place on Friday 13 October 2023 at 15:00 EEST (Eastern European Summer Time zone). Konstantinos Lazarakis MW\, head of the course at our school and renowned educator\, will offer an in-depth presentation of the programme\, followed by Q&A session aimed at solving any queries you may have. \nMeeting the highest standards\, our school is the only WSET APP in SE Europe that provides DIPLOMA course\, therefore attracts candidates from around the globe. Learn more about our classes starting on 19 April 2024\, dive into a unique experience of multicultural fellowship\, get inspired! For more info click here. \n\n\n\n	Reserve your Place at the Online English Presentation until 10/10 Here.
URL:https://www.wspc.gr/event/diploma-open-day-online/
LOCATION:Online\, Online
CATEGORIES:Diploma Open Day
END:VEVENT
BEGIN:VEVENT
DTSTART;TZID=Europe/Athens:20231013T180000
DTEND;TZID=Europe/Athens:20231013T200000
DTSTAMP:20260426T020009
CREATED:20230929T124900Z
LAST-MODIFIED:20230929T124900Z
UID:23410-1697220000-1697227200@www.wspc.gr
SUMMARY:Diploma Open Day - Δια Ζώσης
DESCRIPTION:Ο Κωνσταντίνος Λαζαράκης MW σας περιμένει στο καθιερωμένο WSET DIPLOMA OPEN DAY του σχολείου μας\, στην έδρα του WSPC (Γλαύκου 11\, Π. Φάληρο)\, την Παρασκευή 13 Οκτωβρίου 2023 στις 18:00. \nΣε μια αναλυτική παρουσίαση στα ελληνικά\, θα παρουσιαστούν το πλαίσιο και οι απαιτήσεις του προγράμματος\, ενώ θα ακολουθήσει Q&A session για να λύσετε κάθε σας απορία. Κλείστε θέση\, πάρτε τις πληροφορίες που χρειάζεστε και προετοιμαστείτε για το επόμενο τμήμα WSET DIPLOMA που θα ξεκινήσει στο WSPC τον Απρίλιο του 2024. \n\n\n	Κλείστε Θέση στη Δια Ζώσης Παρουσίαση έως 10/10 Εδώ.
URL:https://www.wspc.gr/event/diploma-open-day-dia-zosis/
LOCATION:Online\, Online
CATEGORIES:Diploma Open Day
END:VEVENT
END:VCALENDAR