BEGIN:VCALENDAR
VERSION:2.0
PRODID:-//WSPC - ECPv5.16.3//NONSGML v1.0//EN
CALSCALE:GREGORIAN
METHOD:PUBLISH
X-WR-CALNAME:WSPC
X-ORIGINAL-URL:https://www.wspc.gr
X-WR-CALDESC:Events for WSPC
REFRESH-INTERVAL;VALUE=DURATION:PT1H
X-Robots-Tag:noindex
X-PUBLISHED-TTL:PT1H
BEGIN:VTIMEZONE
TZID:Europe/Athens
BEGIN:DAYLIGHT
TZOFFSETFROM:+0200
TZOFFSETTO:+0300
TZNAME:EEST
DTSTART:20230326T010000
END:DAYLIGHT
BEGIN:STANDARD
TZOFFSETFROM:+0300
TZOFFSETTO:+0200
TZNAME:EET
DTSTART:20231029T010000
END:STANDARD
END:VTIMEZONE
BEGIN:VEVENT
DTSTART;TZID=Europe/Athens:20230507T110000
DTEND;TZID=Europe/Athens:20230508T190000
DTSTAMP:20260425T001714
CREATED:20230103T091909Z
LAST-MODIFIED:20230103T091909Z
UID:15522-1683457200-1683572400@www.wspc.gr
SUMMARY:Wine2Wine Fest 2023
DESCRIPTION:
URL:https://www.wspc.gr/event/wine2wine-fest-2023/
LOCATION:Omega Yacht Club\, Μποζαΐτικα Πατρών\, Πάτρα
CATEGORIES:Εκθέσεις
END:VEVENT
END:VCALENDAR