BEGIN:VCALENDAR
VERSION:2.0
PRODID:-//WSPC - ECPv5.16.3//NONSGML v1.0//EN
CALSCALE:GREGORIAN
METHOD:PUBLISH
X-ORIGINAL-URL:https://www.wspc.gr
X-WR-CALDESC:Events for WSPC
REFRESH-INTERVAL;VALUE=DURATION:PT1H
X-Robots-Tag:noindex
X-PUBLISHED-TTL:PT1H
BEGIN:VTIMEZONE
TZID:Europe/Athens
BEGIN:DAYLIGHT
TZOFFSETFROM:+0200
TZOFFSETTO:+0300
TZNAME:EEST
DTSTART:20230326T010000
END:DAYLIGHT
BEGIN:STANDARD
TZOFFSETFROM:+0300
TZOFFSETTO:+0200
TZNAME:EET
DTSTART:20231029T010000
END:STANDARD
END:VTIMEZONE
BEGIN:VEVENT
DTSTART;TZID=Europe/Athens:20230322T183000
DTEND;TZID=Europe/Athens:20230322T203000
DTSTAMP:20260425T181515
CREATED:20221222T110106Z
LAST-MODIFIED:20230321T122510Z
UID:15351-1679509800-1679517000@www.wspc.gr
SUMMARY:Food & Wine Matching for Beginners
DESCRIPTION:Ποιο είναι το σωστό κρασί για κάθε περίσταση; Πως γίνεται το ιδανικό ταίριασμα με τα πιάτα που σερβίρετε; \nΠαρακολουθήστε το Food & Wine Matching for Beginners και κάνετε τα πρώτα βήματα για: \n\nΝα διαβάζετε σωστά μια ετικέτα κρασιού\, αποκτώντας την αυτοπεποίθηση που χρειάζεται για τη σωστή επιλογή φιάλης.\nΝα διακρίνετε το πως τα βασικά στοιχεία του φαγητού – οξύτητα\, αλατότητα\, γλυκύτητα – επηρεάζουν την γεύση του κρασιού.\n\nFood & Wine Matching for Beginners\nΕισηγητής: Νίκος Πανίδης\n22 Μαρτίου | 18:30 – 20:30\nDeadline εγγραφών: 21 Μαρτίου\n– Απευθύνεται σε όλους
URL:https://www.wspc.gr/event/food-amp-wine-matching-for-beginners/
LOCATION:WSPC\, Γλαύκου 11\, Παλαιό Φάληρο\, Αττική\, 17564\, Greece
END:VEVENT
END:VCALENDAR