BEGIN:VCALENDAR
VERSION:2.0
PRODID:-//WSPC - ECPv5.16.3//NONSGML v1.0//EN
CALSCALE:GREGORIAN
METHOD:PUBLISH
X-ORIGINAL-URL:https://www.wspc.gr
X-WR-CALDESC:Events for WSPC
REFRESH-INTERVAL;VALUE=DURATION:PT1H
X-Robots-Tag:noindex
X-PUBLISHED-TTL:PT1H
BEGIN:VTIMEZONE
TZID:Europe/Athens
BEGIN:DAYLIGHT
TZOFFSETFROM:+0200
TZOFFSETTO:+0300
TZNAME:EEST
DTSTART:20230326T010000
END:DAYLIGHT
BEGIN:STANDARD
TZOFFSETFROM:+0300
TZOFFSETTO:+0200
TZNAME:EET
DTSTART:20231029T010000
END:STANDARD
END:VTIMEZONE
BEGIN:VEVENT
DTSTART;TZID=Europe/Athens:20230118T180000
DTEND;TZID=Europe/Athens:20230118T200000
DTSTAMP:20260424T160513
CREATED:20221220T113148Z
LAST-MODIFIED:20230110T141932Z
UID:15344-1674064800-1674072000@www.wspc.gr
SUMMARY:Masterclass: Ο Ελληνικός Καφές... Αλλιώς
DESCRIPTION:Masterclass: Ο Ελληνικός Καφές… Αλλιώς \nΣε συνεργασία με τα Καφεκοπτεία Λουμίδη. \nΔύο ηχηρά ονόματα ενώνουν την εξειδίκευση τους για να παρουσιάσουν στους επαγγελματίες του καφέ\, στους επαγγελματίες της εστίασης\, της HO.RE.CA. και στους coffee lovers τον  Ελληνικό καφέ\, αλλιώς… \nΈνα ταξίδι στον χρόνο από την Κωνσταντινούπολη του Σουλειμάν του Μεγαλοπρεπή και τον παραδοσιακό τούρκικο καφέ μέχρι την Ελλάδα του 2023 και τα Signature Drinks και Cocktails\, βασισμένα στον Cold Brewed Ελληνικό Kαφέ. Θα μάθουμε γιατί θεωρείται ένας από τους πιο υγιεινούς τύπους καφέ\, θα κάνουμε γευσιγνωσία σε 5 διαφορετικά είδη Ελληνικού των Καφεκοπτείων Λουμίδη\, θα δούμε την απόλυτα σωστή  παραδοσιακή μεθοδολογία παρασκευής του καθώς και τις μοντέρνες εκδοχές εκχύλισης του. \nΘα δοκιμάσουμε τα τελευταία trends σε Signature Drinks βασισμένα στον Ελληνικό Καφέ\, καθώς και συνδυασμούς τους με αλμυρά & γλυκά εδέσματα.\nΈνα ολοκληρωμένο δίωρο masterclass γνώσεων και γευσιγνωσίας αφιερωμένο αποκλειστικά στο παρελθόν\, παρόν και μέλλον του Ελληνικού Καφέ. \nΕισηγητές: Μαριλένα Κουΐδου\, Principal of WSPC Coffee School & Θάνος Κλουβάτος\, Coffee Expert & Head Barista @Καφεκοπτεία Λουμίδη\n18 Ιανουαρίου | 18:00 – 20:00\nDeadline εγγραφών: 13 Ιανουαρίου\n– Απευθύνεται σε όλους
URL:https://www.wspc.gr/event/o-ellinikos-kafes-allios/
LOCATION:WSPC\, Γλαύκου 11\, Παλαιό Φάληρο\, Αττική\, 17564\, Greece
CATEGORIES:Δια Ζώσης Master Class
END:VEVENT
END:VCALENDAR