BEGIN:VCALENDAR
VERSION:2.0
PRODID:-//WSPC - ECPv5.16.3//NONSGML v1.0//EN
CALSCALE:GREGORIAN
METHOD:PUBLISH
X-WR-CALNAME:WSPC
X-ORIGINAL-URL:https://www.wspc.gr
X-WR-CALDESC:Events for WSPC
REFRESH-INTERVAL;VALUE=DURATION:PT1H
X-Robots-Tag:noindex
X-PUBLISHED-TTL:PT1H
BEGIN:VTIMEZONE
TZID:Europe/Athens
BEGIN:DAYLIGHT
TZOFFSETFROM:+0200
TZOFFSETTO:+0300
TZNAME:EEST
DTSTART:20220327T010000
END:DAYLIGHT
BEGIN:STANDARD
TZOFFSETFROM:+0300
TZOFFSETTO:+0200
TZNAME:EET
DTSTART:20221030T010000
END:STANDARD
END:VTIMEZONE
BEGIN:VEVENT
DTSTART;TZID=Europe/Athens:20221214T180000
DTEND;TZID=Europe/Athens:20221214T200000
DTSTAMP:20260424T110012
CREATED:20221027T135634Z
LAST-MODIFIED:20221205T112124Z
UID:13962-1671040800-1671048000@www.wspc.gr
SUMMARY:Masterclass: Coffee-Cocoa-Tea-Wine-Spirits Pairing: Christmas Edition
DESCRIPTION:Coffee-Cocoa-Tea-Wine-Spirits Pairing: Christmas Edition\nΤο άκρως επιτυχημένο Masterclass με τον Ανδρέα Ματθίδη DipWSET\, Q-Grader ολοκληρώνει τον κύκλο των φθινοπωρινών «The Extras»! \nΕισηγητής: Ανδρέας Ματθίδης DipWSET\, Q-Grader\n14 Δεκεμβρίου | 18:00 – 20:00\nDeadline εγγραφών: 9 Δεκεμβρίου\n– Απευθύνεται σε όλους
URL:https://www.wspc.gr/event/dia-zosis-masterclass-christmas-edition-coffee-cocoa-tea-wine-spirits-pairing/
LOCATION:WSPC\, Γλαύκου 11\, Παλαιό Φάληρο\, Αττική\, 17564\, Greece
CATEGORIES:Δια Ζώσης Master Class
ATTACH;FMTTYPE=image/jpeg:https://www.wspc.gr/wp-content/uploads/2022/10/CCT-Wine-Spirits-Pairing-2_events_site.jpg
END:VEVENT
END:VCALENDAR