BEGIN:VCALENDAR
VERSION:2.0
PRODID:-//WSPC - ECPv5.16.3//NONSGML v1.0//EN
CALSCALE:GREGORIAN
METHOD:PUBLISH
X-ORIGINAL-URL:https://www.wspc.gr
X-WR-CALDESC:Events for WSPC
REFRESH-INTERVAL;VALUE=DURATION:PT1H
X-Robots-Tag:noindex
X-PUBLISHED-TTL:PT1H
BEGIN:VTIMEZONE
TZID:Europe/Athens
BEGIN:DAYLIGHT
TZOFFSETFROM:+0200
TZOFFSETTO:+0300
TZNAME:EEST
DTSTART:20220327T010000
END:DAYLIGHT
BEGIN:STANDARD
TZOFFSETFROM:+0300
TZOFFSETTO:+0200
TZNAME:EET
DTSTART:20221030T010000
END:STANDARD
END:VTIMEZONE
BEGIN:VEVENT
DTSTART;VALUE=DATE:20221209
DTEND;VALUE=DATE:20221211
DTSTAMP:20260424T094151
CREATED:20221125T161801Z
LAST-MODIFIED:20240610T113314Z
UID:14836-1670544000-1670716799@www.wspc.gr
SUMMARY:Athens Rum & Whisky Festival
DESCRIPTION:Το WSPC θα βρίσκεται στο Athens Rum & Whisky Festival το διήμερο 9-10 Δεκεμβρίου. \nΕκατοντάδες ετικέτες σε ρούμι και ουίσκι\, premium και ultra premium φιάλες\, λανσαρίσματα και πρώτες παρουσιάσεις αποσταγμάτων\, cocktails από τα καλύτερα bars της πόλης\, γευσιγνωσίες\, μουσική και custom εμπειρίες\, σε ένα μοναδικό 2ήμερο στην καρδιά της Αθήνας! \nΩράριο λειτουργίας: 16:00-00:00 \nΜείνετε συντονισμένοι για έναν διαγωνισμό έκπληξη! \n 
URL:https://www.wspc.gr/event/to-wspc-sto-athens-rum-amp-whisky-festival/
LOCATION:Amalias 36\, Λεωφ. Βασιλίσσης Αμαλίας 36\, Αθήνα\, 10558
CATEGORIES:Εκθέσεις
ATTACH;FMTTYPE=image/jpeg:https://www.wspc.gr/wp-content/uploads/2022/11/Rum-Whisky-Festival.jpg
END:VEVENT
END:VCALENDAR