BEGIN:VCALENDAR
VERSION:2.0
PRODID:-//WSPC - ECPv5.16.3//NONSGML v1.0//EN
CALSCALE:GREGORIAN
METHOD:PUBLISH
X-WR-CALNAME:WSPC
X-ORIGINAL-URL:https://www.wspc.gr
X-WR-CALDESC:Events for WSPC
REFRESH-INTERVAL;VALUE=DURATION:PT1H
X-Robots-Tag:noindex
X-PUBLISHED-TTL:PT1H
BEGIN:VTIMEZONE
TZID:Europe/Athens
BEGIN:DAYLIGHT
TZOFFSETFROM:+0200
TZOFFSETTO:+0300
TZNAME:EEST
DTSTART:20220327T010000
END:DAYLIGHT
BEGIN:STANDARD
TZOFFSETFROM:+0300
TZOFFSETTO:+0200
TZNAME:EET
DTSTART:20221030T010000
END:STANDARD
END:VTIMEZONE
BEGIN:VEVENT
DTSTART;TZID=Europe/Athens:20220523T173000
DTEND;TZID=Europe/Athens:20220523T230000
DTSTAMP:20260424T143144
CREATED:20220411T141105Z
LAST-MODIFIED:20220411T141322Z
UID:11270-1653327000-1653346800@www.wspc.gr
SUMMARY:WSPC Graduation Ceremony 2022
DESCRIPTION:Ο πρόεδρος του WSPC Κωνσταντίνος Λαζαράκης MW έχει την τιμή να σας προσκαλέσει στην Απονομή Τίτλων Σπουδών & Υποτροφιών για τα Ακαδημαϊκά έτη 2018-2021 \nτη Δευτέρα 23 Μαΐου 2022 στις 17:30 που θα πραγματοποιηθεί στο \nΟινοποιείο Παπαγιαννάκος \nΟικοδεσπότες της Αποφοίτησης: Αντωνία & Βασίλης Παπαγιαννάκος \n*Δικαίωμα παρουσίας στην Αποφοίτηση έχουν όσοι λάβουν σχετική πρόσκληση.
URL:https://www.wspc.gr/event/wspc-graduation-ceremony-2022/
LOCATION:Crete
CATEGORIES:Αποφοιτήσεις
END:VEVENT
END:VCALENDAR