BEGIN:VCALENDAR
VERSION:2.0
PRODID:-//WSPC - ECPv5.16.3//NONSGML v1.0//EN
CALSCALE:GREGORIAN
METHOD:PUBLISH
X-ORIGINAL-URL:https://www.wspc.gr
X-WR-CALDESC:Events for WSPC
REFRESH-INTERVAL;VALUE=DURATION:PT1H
X-Robots-Tag:noindex
X-PUBLISHED-TTL:PT1H
BEGIN:VTIMEZONE
TZID:Europe/Athens
BEGIN:DAYLIGHT
TZOFFSETFROM:+0200
TZOFFSETTO:+0300
TZNAME:EEST
DTSTART:20220327T010000
END:DAYLIGHT
BEGIN:STANDARD
TZOFFSETFROM:+0300
TZOFFSETTO:+0200
TZNAME:EET
DTSTART:20221030T010000
END:STANDARD
END:VTIMEZONE
BEGIN:VEVENT
DTSTART;VALUE=DATE:20220521
DTEND;VALUE=DATE:20220522
DTSTAMP:20260424T062332
CREATED:20211112T092747Z
LAST-MODIFIED:20211112T092747Z
UID:7793-1653091200-1653177599@www.wspc.gr
SUMMARY:Παγκόσμια Ημέρα Chardonnay
DESCRIPTION:Παγκόσμια Ημέρα Chardonnay
URL:https://www.wspc.gr/event/pagkosmia-imera-chardonnay/
LOCATION:Crete
CATEGORIES:Παγκόσμια Ημέρα
END:VEVENT
BEGIN:VEVENT
DTSTART;VALUE=DATE:20220521
DTEND;VALUE=DATE:20220522
DTSTAMP:20260424T062332
CREATED:20211112T092838Z
LAST-MODIFIED:20211112T092838Z
UID:7795-1653091200-1653177599@www.wspc.gr
SUMMARY:Παγκόσμια Ημέρα Τσαγιού
DESCRIPTION:Παγκόσμια Ημέρα Τσαγιού
URL:https://www.wspc.gr/event/pagkosmia-imera-tsagioy/
LOCATION:Crete
CATEGORIES:Παγκόσμια Ημέρα
END:VEVENT
END:VCALENDAR