BEGIN:VCALENDAR
VERSION:2.0
PRODID:-//WSPC - ECPv5.16.3//NONSGML v1.0//EN
CALSCALE:GREGORIAN
METHOD:PUBLISH
X-ORIGINAL-URL:https://www.wspc.gr
X-WR-CALDESC:Events for WSPC
REFRESH-INTERVAL;VALUE=DURATION:PT1H
X-Robots-Tag:noindex
X-PUBLISHED-TTL:PT1H
BEGIN:VTIMEZONE
TZID:Europe/Athens
BEGIN:DAYLIGHT
TZOFFSETFROM:+0200
TZOFFSETTO:+0300
TZNAME:EEST
DTSTART:20220327T010000
END:DAYLIGHT
BEGIN:STANDARD
TZOFFSETFROM:+0300
TZOFFSETTO:+0200
TZNAME:EET
DTSTART:20221030T010000
END:STANDARD
END:VTIMEZONE
BEGIN:VEVENT
DTSTART;TZID=Europe/Athens:20220508T110000
DTEND;TZID=Europe/Athens:20220508T190000
DTSTAMP:20260424T062223
CREATED:20220426T074509Z
LAST-MODIFIED:20220426T075043Z
UID:11384-1652007600-1652036400@www.wspc.gr
SUMMARY:Wine2Wine Fest
DESCRIPTION:Wine2Wine Fest
URL:https://www.wspc.gr/event/wine2wine-fest/
LOCATION:Omega Yacht Club\, Μποζαΐτικα Πατρών\, Πάτρα
CATEGORIES:Εκθέσεις
END:VEVENT
END:VCALENDAR