BEGIN:VCALENDAR
VERSION:2.0
PRODID:-//WSPC - ECPv5.16.3//NONSGML v1.0//EN
CALSCALE:GREGORIAN
METHOD:PUBLISH
X-WR-CALNAME:WSPC
X-ORIGINAL-URL:https://www.wspc.gr
X-WR-CALDESC:Events for WSPC
REFRESH-INTERVAL;VALUE=DURATION:PT1H
X-Robots-Tag:noindex
X-PUBLISHED-TTL:PT1H
BEGIN:VTIMEZONE
TZID:Europe/Athens
BEGIN:DAYLIGHT
TZOFFSETFROM:+0200
TZOFFSETTO:+0300
TZNAME:EEST
DTSTART:20220327T010000
END:DAYLIGHT
BEGIN:STANDARD
TZOFFSETFROM:+0300
TZOFFSETTO:+0200
TZNAME:EET
DTSTART:20221030T010000
END:STANDARD
END:VTIMEZONE
BEGIN:VEVENT
DTSTART;TZID=Europe/Athens:20220410T120000
DTEND;TZID=Europe/Athens:20220411T200000
DTSTAMP:20260424T111750
CREATED:20220128T161446Z
LAST-MODIFIED:20220128T161730Z
UID:10370-1649592000-1649707200@www.wspc.gr
SUMMARY:THESSALONIKI WINE SHOW
DESCRIPTION:Αποθήκη Γ’\, Λιμάνι Θεσσαλονίκης
URL:https://www.wspc.gr/event/thessaloniki-wine-show/
LOCATION:Crete
CATEGORIES:Εκθέσεις
END:VEVENT
END:VCALENDAR