BEGIN:VCALENDAR
VERSION:2.0
PRODID:-//WSPC - ECPv5.16.3//NONSGML v1.0//EN
CALSCALE:GREGORIAN
METHOD:PUBLISH
X-WR-CALNAME:WSPC
X-ORIGINAL-URL:https://www.wspc.gr
X-WR-CALDESC:Events for WSPC
REFRESH-INTERVAL;VALUE=DURATION:PT1H
X-Robots-Tag:noindex
X-PUBLISHED-TTL:PT1H
BEGIN:VTIMEZONE
TZID:Europe/Athens
BEGIN:DAYLIGHT
TZOFFSETFROM:+0200
TZOFFSETTO:+0300
TZNAME:EEST
DTSTART:20210328T010000
END:DAYLIGHT
BEGIN:STANDARD
TZOFFSETFROM:+0300
TZOFFSETTO:+0200
TZNAME:EET
DTSTART:20211031T010000
END:STANDARD
END:VTIMEZONE
BEGIN:VEVENT
DTSTART;TZID=Europe/Athens:20211209T180000
DTEND;TZID=Europe/Athens:20211209T200000
DTSTAMP:20260425T175831
CREATED:20211111T131536Z
LAST-MODIFIED:20211207T185453Z
UID:7708-1639072800-1639080000@www.wspc.gr
SUMMARY:Master Class: Refreshing Madeira & Port
DESCRIPTION:ONLINE MASTERCLASS\nΕισηγητής: TBC \n\nΑπευθύνεται μόνο σε σπουδαστές Επιπέδου 3.\nΠεριορισμένος αριθμός θέσεων.\n\nΚράτησέ τη θέση σου! \n\n\n  \n\n\n\n\n	\n		Φόρμα Κράτησης\n		 \n	\n	\n		\n			Όνομα*\n			 \n		\n		\n			Email*\n			 \n		\n		\n			Μήνυμα*
URL:https://www.wspc.gr/event/master-class-refreshing-madeira-amp-port/
LOCATION:Online\, Online
CATEGORIES:Online Master Class
END:VEVENT
END:VCALENDAR