BEGIN:VCALENDAR
VERSION:2.0
PRODID:-//WSPC - ECPv5.16.3//NONSGML v1.0//EN
CALSCALE:GREGORIAN
METHOD:PUBLISH
X-ORIGINAL-URL:https://www.wspc.gr
X-WR-CALDESC:Events for WSPC
REFRESH-INTERVAL;VALUE=DURATION:PT1H
X-Robots-Tag:noindex
X-PUBLISHED-TTL:PT1H
BEGIN:VTIMEZONE
TZID:Europe/Athens
BEGIN:DAYLIGHT
TZOFFSETFROM:+0200
TZOFFSETTO:+0300
TZNAME:EEST
DTSTART:20210328T010000
END:DAYLIGHT
BEGIN:STANDARD
TZOFFSETFROM:+0300
TZOFFSETTO:+0200
TZNAME:EET
DTSTART:20211031T010000
END:STANDARD
END:VTIMEZONE
BEGIN:VEVENT
DTSTART;TZID=Europe/Athens:20211202T180000
DTEND;TZID=Europe/Athens:20211202T200000
DTSTAMP:20260425T141424
CREATED:20211111T130823Z
LAST-MODIFIED:20211111T135510Z
UID:7703-1638468000-1638475200@www.wspc.gr
SUMMARY:ΔΙΑ ΖΩΣΗΣ MASTER CLASS: Σπάνια & Παλαιωμένα Ξινόμαυρα
DESCRIPTION:ΔΙΑ ΖΩΣΗΣ MASTERCLASS\nΚόστος: €100\nΕισηγητής: Κωνσταντίνος Λαζαράκης MW \n\nΑπευθύνεται μόνο σε σπουδαστές Επιπέδου 3 και Diploma.\nΘα δοκιμαστούν 16 παλαιωμένες φιάλες Ξινόμαυρου.\nΠεριορισμένος αριθμός θέσεων. Δικαίωμα συμμετοχής έχουν όσοι διαθέτουν πιστοποιητικό εμβολιασμού ή νόσησης.
URL:https://www.wspc.gr/event/dia-zosis-master-class-spania-amp-palaiomena-xinomayra/
LOCATION:WSPC\, Γλαύκου 11\, Παλαιό Φάληρο\, Αττική\, 17564\, Greece
CATEGORIES:Δια Ζώσης Master Class
END:VEVENT
END:VCALENDAR