BEGIN:VCALENDAR
VERSION:2.0
PRODID:-//WSPC - ECPv5.16.3//NONSGML v1.0//EN
CALSCALE:GREGORIAN
METHOD:PUBLISH
X-ORIGINAL-URL:https://www.wspc.gr
X-WR-CALDESC:Events for WSPC
REFRESH-INTERVAL;VALUE=DURATION:PT1H
X-Robots-Tag:noindex
X-PUBLISHED-TTL:PT1H
BEGIN:VTIMEZONE
TZID:Europe/Athens
BEGIN:DAYLIGHT
TZOFFSETFROM:+0200
TZOFFSETTO:+0300
TZNAME:EEST
DTSTART:20210328T010000
END:DAYLIGHT
BEGIN:STANDARD
TZOFFSETFROM:+0300
TZOFFSETTO:+0200
TZNAME:EET
DTSTART:20211031T010000
END:STANDARD
END:VTIMEZONE
BEGIN:VEVENT
DTSTART;TZID=Europe/Athens:20211117T180000
DTEND;TZID=Europe/Athens:20211117T200000
DTSTAMP:20260425T230401
CREATED:20211111T125054Z
LAST-MODIFIED:20211111T135118Z
UID:7697-1637172000-1637179200@www.wspc.gr
SUMMARY:Webinar: Wine Production & Ageing for Beginners | Part B: Mastering Maturation
DESCRIPTION:WEBINAR\nΕισηγητής: Δημήτρης Μότσος DipWSET \n\nΑπευθύνεται μόνο σπουδαστές Επιπέδου 1 και σε δυνητικούς σπουδαστές.\nΌποιος παρακολουθήσει και τα 3 τρία μέρη θα λάβει Certificate of Attendance.
URL:https://www.wspc.gr/event/webinar-wine-production-amp-ageing-for-beginners-part-b-mastering-maturation/
LOCATION:Online\, Online
CATEGORIES:Webinar
END:VEVENT
END:VCALENDAR