BEGIN:VCALENDAR
VERSION:2.0
PRODID:-//WSPC - ECPv5.16.3//NONSGML v1.0//EN
CALSCALE:GREGORIAN
METHOD:PUBLISH
X-ORIGINAL-URL:https://www.wspc.gr
X-WR-CALDESC:Events for WSPC
REFRESH-INTERVAL;VALUE=DURATION:PT1H
X-Robots-Tag:noindex
X-PUBLISHED-TTL:PT1H
BEGIN:VTIMEZONE
TZID:Europe/Athens
BEGIN:DAYLIGHT
TZOFFSETFROM:+0200
TZOFFSETTO:+0300
TZNAME:EEST
DTSTART:20210328T010000
END:DAYLIGHT
BEGIN:STANDARD
TZOFFSETFROM:+0300
TZOFFSETTO:+0200
TZNAME:EET
DTSTART:20211031T010000
END:STANDARD
END:VTIMEZONE
BEGIN:VEVENT
DTSTART;TZID=Europe/Athens:20211101T190000
DTEND;TZID=Europe/Athens:20211101T210000
DTSTAMP:20260426T070333
CREATED:20211025T075321Z
LAST-MODIFIED:20211111T134015Z
UID:6868-1635793200-1635800400@www.wspc.gr
SUMMARY:WSPC - The Extra Curricular Activities
DESCRIPTION:ONLINE MASTER CLASS\nΟινοποιοί Βορείου Ελλάδος “Xinomavro: love or hate?”\nΕισηγητής: Κωνσταντίνος Λαζαράκης MW\nDeadline εγγραφών: 20 Οκτωβρίου \n!Ελάχιστες Διαθέσιμες Θέσεις
URL:https://www.wspc.gr/event/wspc-the-extra-curricular-activities/
LOCATION:Online\, Online
CATEGORIES:Online Master Class
END:VEVENT
END:VCALENDAR